0.0010000000
0.0000000000
0.0000000000
-0.0010000000
66.0700000000
41.9540000000
